Package: PureCN Version: 2.6.4 Command: chmod a+r PureCN -R && F:\biocbuild\bbs-3.17-bioc\R\bin\R.exe CMD build --keep-empty-dirs --no-resave-data PureCN StartedAt: 2023-10-15 21:30:52 -0400 (Sun, 15 Oct 2023) EndedAt: 2023-10-15 21:35:32 -0400 (Sun, 15 Oct 2023) EllapsedTime: 280.2 seconds RetCode: 0 Status: OK PackageFile: PureCN_2.6.4.tar.gz PackageFileSize: 5.715 MiB