Package: PureCN Version: 2.6.4 Command: rm -rf PureCN.buildbin-libdir && mkdir PureCN.buildbin-libdir && F:\biocbuild\bbs-3.17-bioc\R\bin\R.exe CMD INSTALL --build --library=PureCN.buildbin-libdir PureCN_2.6.4.tar.gz StartedAt: 2023-10-16 09:18:24 -0400 (Mon, 16 Oct 2023) EndedAt: 2023-10-16 09:19:30 -0400 (Mon, 16 Oct 2023) EllapsedTime: 66.5 seconds RetCode: 0 Status: OK PackageFile: PureCN_2.6.4.zip PackageFileSize: 6.171 MiB