Package: PureCN Version: 2.6.4 Command: /home/biocbuild/bbs-3.17-bioc/R/bin/R CMD INSTALL PureCN StartedAt: 2023-10-15 15:24:32 -0400 (Sun, 15 Oct 2023) EndedAt: 2023-10-15 15:25:22 -0400 (Sun, 15 Oct 2023) EllapsedTime: 49.7 seconds RetCode: 0 Status: OK