Package: PureCN Version: 2.6.4 Command: /home/biocbuild/bbs-3.17-bioc/R/bin/R CMD check --install=check:PureCN.install-out.txt --library=/home/biocbuild/bbs-3.17-bioc/R/site-library --timings PureCN_2.6.4.tar.gz StartedAt: 2023-10-16 00:05:30 -0400 (Mon, 16 Oct 2023) EndedAt: 2023-10-16 00:24:04 -0400 (Mon, 16 Oct 2023) EllapsedTime: 1113.7 seconds RetCode: 0 Status: OK CheckDir: PureCN.Rcheck Warnings: 0