Package: PureCN Version: 2.6.4 Command: /home/biocbuild/bbs-3.17-bioc/R/bin/R CMD build --keep-empty-dirs --no-resave-data PureCN StartedAt: 2023-10-15 18:02:42 -0400 (Sun, 15 Oct 2023) EndedAt: 2023-10-15 18:06:52 -0400 (Sun, 15 Oct 2023) EllapsedTime: 250.3 seconds RetCode: 0 Status: OK PackageFile: PureCN_2.6.4.tar.gz PackageFileSize: 5.718 MiB