Package: PureCN Version: 2.6.4 Command: /Library/Frameworks/R.framework/Resources/bin/R CMD check --install=check:PureCN.install-out.txt --library=/Library/Frameworks/R.framework/Resources/library --no-vignettes --timings PureCN_2.6.4.tar.gz StartedAt: 2023-10-16 05:36:46 -0400 (Mon, 16 Oct 2023) EndedAt: 2023-10-16 06:16:47 -0400 (Mon, 16 Oct 2023) EllapsedTime: 2400.2 seconds RetCode: None Status: TIMEOUT CheckDir: PureCN.Rcheck Warnings: NA