Package: PureCN Version: 2.6.4 Command: /Library/Frameworks/R.framework/Resources/bin/R CMD build --keep-empty-dirs --no-resave-data PureCN StartedAt: 2023-10-15 20:26:54 -0400 (Sun, 15 Oct 2023) EndedAt: 2023-10-15 20:38:12 -0400 (Sun, 15 Oct 2023) EllapsedTime: 678.2 seconds RetCode: 0 Status: OK PackageFile: PureCN_2.6.4.tar.gz PackageFileSize: 5.72 MiB