Package: ProteoMM Version: 1.18.0 Command: F:\biocbuild\bbs-3.17-bioc\R\bin\R.exe CMD check --no-multiarch --install=check:ProteoMM.install-out.txt --library=F:\biocbuild\bbs-3.17-bioc\R\library --no-vignettes --timings ProteoMM_1.18.0.tar.gz StartedAt: 2023-10-16 05:32:24 -0400 (Mon, 16 Oct 2023) EndedAt: 2023-10-16 05:34:16 -0400 (Mon, 16 Oct 2023) EllapsedTime: 112.1 seconds RetCode: 0 Status: OK CheckDir: ProteoMM.Rcheck Warnings: 0