Package: ProteoMM Version: 1.18.0 Command: chmod a+r ProteoMM -R && F:\biocbuild\bbs-3.17-bioc\R\bin\R.exe CMD build --keep-empty-dirs --no-resave-data ProteoMM StartedAt: 2023-10-15 21:29:37 -0400 (Sun, 15 Oct 2023) EndedAt: 2023-10-15 21:30:13 -0400 (Sun, 15 Oct 2023) EllapsedTime: 35.8 seconds RetCode: 0 Status: OK PackageFile: ProteoMM_1.18.0.tar.gz PackageFileSize: 212.9 KiB