Package: ProteoMM Version: 1.18.0 Command: rm -rf ProteoMM.buildbin-libdir && mkdir ProteoMM.buildbin-libdir && /Users/biocbuild/BBS/utils/build-universal.sh ProteoMM_1.18.0.tar.gz /Library/Frameworks/R.framework/Resources/bin/R ProteoMM.buildbin-libdir StartedAt: 2023-10-16 09:57:44 -0400 (Mon, 16 Oct 2023) EndedAt: 2023-10-16 09:58:02 -0400 (Mon, 16 Oct 2023) EllapsedTime: 18.5 seconds RetCode: 0 Status: OK PackageFile: ProteoMM_1.18.0.tgz PackageFileSize: 545.7 KiB