Package: ProteoDisco Version: 1.6.0 Command: F:\biocbuild\bbs-3.17-bioc\R\bin\R.exe CMD check --no-multiarch --install=check:ProteoDisco.install-out.txt --library=F:\biocbuild\bbs-3.17-bioc\R\library --no-vignettes --timings ProteoDisco_1.6.0.tar.gz StartedAt: 2023-10-16 05:32:03 -0400 (Mon, 16 Oct 2023) EndedAt: 2023-10-16 05:41:23 -0400 (Mon, 16 Oct 2023) EllapsedTime: 560.1 seconds RetCode: 0 Status: WARNINGS CheckDir: ProteoDisco.Rcheck Warnings: 2