Package: Prostar Version: 1.32.6 Command: rm -rf Prostar.buildbin-libdir && mkdir Prostar.buildbin-libdir && F:\biocbuild\bbs-3.17-bioc\R\bin\R.exe CMD INSTALL --build --library=Prostar.buildbin-libdir Prostar_1.32.6.tar.gz StartedAt: 2023-10-16 09:18:01 -0400 (Mon, 16 Oct 2023) EndedAt: 2023-10-16 09:18:36 -0400 (Mon, 16 Oct 2023) EllapsedTime: 34.7 seconds RetCode: 0 Status: OK PackageFile: Prostar_1.32.6.zip PackageFileSize: 3.126 MiB