Package: Prostar Version: 1.32.6 Command: /home/biocbuild/bbs-3.17-bioc/R/bin/R CMD INSTALL Prostar StartedAt: 2023-10-15 15:37:02 -0400 (Sun, 15 Oct 2023) EndedAt: 2023-10-15 15:37:20 -0400 (Sun, 15 Oct 2023) EllapsedTime: 17.5 seconds RetCode: 0 Status: OK