Package: Prostar Version: 1.32.6 Command: /home/biocbuild/bbs-3.17-bioc/R/bin/R CMD check --install=check:Prostar.install-out.txt --library=/home/biocbuild/bbs-3.17-bioc/R/site-library --timings Prostar_1.32.6.tar.gz StartedAt: 2023-10-16 00:03:16 -0400 (Mon, 16 Oct 2023) EndedAt: 2023-10-16 00:05:29 -0400 (Mon, 16 Oct 2023) EllapsedTime: 132.6 seconds RetCode: 0 Status: OK CheckDir: Prostar.Rcheck Warnings: 0