Package: Prostar Version: 1.32.6 Command: /Library/Frameworks/R.framework/Resources/bin/R CMD INSTALL Prostar StartedAt: 2023-10-15 16:05:09 -0400 (Sun, 15 Oct 2023) EndedAt: 2023-10-15 16:06:08 -0400 (Sun, 15 Oct 2023) EllapsedTime: 59.2 seconds RetCode: 0 Status: OK