Package: Prostar Version: 1.32.6 Command: /Library/Frameworks/R.framework/Resources/bin/R CMD build --keep-empty-dirs --no-resave-data Prostar StartedAt: 2023-10-15 20:25:36 -0400 (Sun, 15 Oct 2023) EndedAt: 2023-10-15 20:26:54 -0400 (Sun, 15 Oct 2023) EllapsedTime: 78.5 seconds RetCode: 0 Status: OK PackageFile: Prostar_1.32.6.tar.gz PackageFileSize: 5.536 MiB