Package: Prostar Version: 1.32.6 Command: rm -rf Prostar.buildbin-libdir && mkdir Prostar.buildbin-libdir && /Users/biocbuild/BBS/utils/build-universal.sh Prostar_1.32.6.tar.gz /Library/Frameworks/R.framework/Resources/bin/R Prostar.buildbin-libdir StartedAt: 2023-10-16 09:57:35 -0400 (Mon, 16 Oct 2023) EndedAt: 2023-10-16 09:58:42 -0400 (Mon, 16 Oct 2023) EllapsedTime: 66.7 seconds RetCode: 0 Status: OK PackageFile: Prostar_1.32.6.tgz PackageFileSize: 3.07 MiB