Package: PrInCE Version: 1.16.0 Command: F:\biocbuild\bbs-3.17-bioc\R\bin\R.exe CMD check --no-multiarch --install=check:PrInCE.install-out.txt --library=F:\biocbuild\bbs-3.17-bioc\R\library --no-vignettes --timings PrInCE_1.16.0.tar.gz StartedAt: 2023-10-16 05:27:06 -0400 (Mon, 16 Oct 2023) EndedAt: 2023-10-16 05:30:12 -0400 (Mon, 16 Oct 2023) EllapsedTime: 185.9 seconds RetCode: 0 Status: WARNINGS CheckDir: PrInCE.Rcheck Warnings: 1