Package: PrInCE Version: 1.16.0 Command: chmod a+r PrInCE -R && F:\biocbuild\bbs-3.17-bioc\R\bin\R.exe CMD build --keep-empty-dirs --no-resave-data PrInCE StartedAt: 2023-10-15 21:27:07 -0400 (Sun, 15 Oct 2023) EndedAt: 2023-10-15 21:29:13 -0400 (Sun, 15 Oct 2023) EllapsedTime: 126.0 seconds RetCode: 0 Status: OK PackageFile: PrInCE_1.16.0.tar.gz PackageFileSize: 1.798 MiB