Package: PrInCE Version: 1.16.0 Command: rm -rf PrInCE.buildbin-libdir && mkdir PrInCE.buildbin-libdir && F:\biocbuild\bbs-3.17-bioc\R\bin\R.exe CMD INSTALL --build --library=PrInCE.buildbin-libdir PrInCE_1.16.0.tar.gz StartedAt: 2023-10-16 09:17:16 -0400 (Mon, 16 Oct 2023) EndedAt: 2023-10-16 09:17:47 -0400 (Mon, 16 Oct 2023) EllapsedTime: 30.1 seconds RetCode: 0 Status: OK PackageFile: PrInCE_1.16.0.zip PackageFileSize: 1.669 MiB