Package: PrInCE Version: 1.16.0 Command: /home/biocbuild/bbs-3.17-bioc/R/bin/R CMD check --install=check:PrInCE.install-out.txt --library=/home/biocbuild/bbs-3.17-bioc/R/site-library --timings PrInCE_1.16.0.tar.gz StartedAt: 2023-10-15 23:59:46 -0400 (Sun, 15 Oct 2023) EndedAt: 2023-10-16 00:04:12 -0400 (Mon, 16 Oct 2023) EllapsedTime: 265.9 seconds RetCode: 0 Status: WARNINGS CheckDir: PrInCE.Rcheck Warnings: 1