Package: PrInCE Version: 1.16.0 Command: /home/biocbuild/bbs-3.17-bioc/R/bin/R CMD build --keep-empty-dirs --no-resave-data PrInCE StartedAt: 2023-10-15 18:00:33 -0400 (Sun, 15 Oct 2023) EndedAt: 2023-10-15 18:02:28 -0400 (Sun, 15 Oct 2023) EllapsedTime: 115.3 seconds RetCode: 0 Status: OK PackageFile: PrInCE_1.16.0.tar.gz PackageFileSize: 1.817 MiB