Package: PloGO2 Version: 1.12.0 Command: chmod a+r PloGO2 -R && F:\biocbuild\bbs-3.17-bioc\R\bin\R.exe CMD build --keep-empty-dirs --no-resave-data PloGO2 StartedAt: 2023-10-15 21:22:42 -0400 (Sun, 15 Oct 2023) EndedAt: 2023-10-15 21:26:33 -0400 (Sun, 15 Oct 2023) EllapsedTime: 231.0 seconds RetCode: 0 Status: OK PackageFile: PloGO2_1.12.0.tar.gz PackageFileSize: 1.694 MiB