Package: PloGO2 Version: 1.12.0 Command: /home/biocbuild/bbs-3.17-bioc/R/bin/R CMD build --keep-empty-dirs --no-resave-data PloGO2 StartedAt: 2023-10-15 17:59:07 -0400 (Sun, 15 Oct 2023) EndedAt: 2023-10-15 18:00:01 -0400 (Sun, 15 Oct 2023) EllapsedTime: 53.9 seconds RetCode: 1 Status: ERROR PackageFile: None PackageFileSize: NA