Package: Pi Version: 2.12.0 Command: rm -rf Pi.buildbin-libdir && mkdir Pi.buildbin-libdir && /Users/biocbuild/BBS/utils/build-universal.sh Pi_2.12.0.tar.gz /Library/Frameworks/R.framework/Resources/bin/R Pi.buildbin-libdir StartedAt: 2023-10-16 09:55:29 -0400 (Mon, 16 Oct 2023) EndedAt: 2023-10-16 09:57:25 -0400 (Mon, 16 Oct 2023) EllapsedTime: 116.2 seconds RetCode: 0 Status: OK PackageFile: Pi_2.12.0.tgz PackageFileSize: 2.879 MiB