Package: PhyloProfile Version: 1.14.6 Command: /home/biocbuild/bbs-3.17-bioc/R/bin/R CMD check --install=check:PhyloProfile.install-out.txt --library=/home/biocbuild/bbs-3.17-bioc/R/site-library --timings PhyloProfile_1.14.6.tar.gz StartedAt: 2023-10-15 23:52:30 -0400 (Sun, 15 Oct 2023) EndedAt: 2023-10-15 23:55:01 -0400 (Sun, 15 Oct 2023) EllapsedTime: 151.0 seconds RetCode: 0 Status: OK CheckDir: PhyloProfile.Rcheck Warnings: 0