Package: PhenoGeneRanker Version: 1.8.0 Command: rm -rf PhenoGeneRanker.buildbin-libdir && mkdir PhenoGeneRanker.buildbin-libdir && F:\biocbuild\bbs-3.17-bioc\R\bin\R.exe CMD INSTALL --build --library=PhenoGeneRanker.buildbin-libdir PhenoGeneRanker_1.8.0.tar.gz StartedAt: 2023-10-16 09:15:24 -0400 (Mon, 16 Oct 2023) EndedAt: 2023-10-16 09:15:34 -0400 (Mon, 16 Oct 2023) EllapsedTime: 10.3 seconds RetCode: 0 Status: OK PackageFile: PhenoGeneRanker_1.8.0.zip PackageFileSize: 86.2 KiB