Package: PhenoGeneRanker Version: 1.8.0 Command: /home/biocbuild/bbs-3.17-bioc/R/bin/R CMD check --install=check:PhenoGeneRanker.install-out.txt --library=/home/biocbuild/bbs-3.17-bioc/R/site-library --timings PhenoGeneRanker_1.8.0.tar.gz StartedAt: 2023-10-15 23:51:40 -0400 (Sun, 15 Oct 2023) EndedAt: 2023-10-16 00:01:41 -0400 (Mon, 16 Oct 2023) EllapsedTime: 600.8 seconds RetCode: 0 Status: OK CheckDir: PhenoGeneRanker.Rcheck Warnings: 0