Package: PhenoGeneRanker Version: 1.8.0 Command: /home/biocbuild/bbs-3.17-bioc/R/bin/R CMD build --keep-empty-dirs --no-resave-data PhenoGeneRanker StartedAt: 2023-10-15 17:57:03 -0400 (Sun, 15 Oct 2023) EndedAt: 2023-10-15 18:06:01 -0400 (Sun, 15 Oct 2023) EllapsedTime: 537.9 seconds RetCode: 0 Status: OK PackageFile: PhenoGeneRanker_1.8.0.tar.gz PackageFileSize: 28.06 KiB