Package: PhenoGeneRanker Version: 1.8.0 Command: /Library/Frameworks/R.framework/Resources/bin/R CMD build --keep-empty-dirs --no-resave-data PhenoGeneRanker StartedAt: 2023-10-15 20:15:32 -0400 (Sun, 15 Oct 2023) EndedAt: 2023-10-15 20:33:00 -0400 (Sun, 15 Oct 2023) EllapsedTime: 1048.0 seconds RetCode: 0 Status: OK PackageFile: PhenoGeneRanker_1.8.0.tar.gz PackageFileSize: 28.07 KiB