Package: PhenoGeneRanker Version: 1.8.0 Command: rm -rf PhenoGeneRanker.buildbin-libdir && mkdir PhenoGeneRanker.buildbin-libdir && /Users/biocbuild/BBS/utils/build-universal.sh PhenoGeneRanker_1.8.0.tar.gz /Library/Frameworks/R.framework/Resources/bin/R PhenoGeneRanker.buildbin-libdir StartedAt: 2023-10-16 09:55:07 -0400 (Mon, 16 Oct 2023) EndedAt: 2023-10-16 09:55:32 -0400 (Mon, 16 Oct 2023) EllapsedTime: 25.0 seconds RetCode: 0 Status: OK PackageFile: PhenoGeneRanker_1.8.0.tgz PackageFileSize: 79.53 KiB