Package: PhIPData Version: 1.8.0 Command: F:\biocbuild\bbs-3.17-bioc\R\bin\R.exe CMD check --no-multiarch --install=check:PhIPData.install-out.txt --library=F:\biocbuild\bbs-3.17-bioc\R\library --no-vignettes --timings PhIPData_1.8.0.tar.gz StartedAt: 2023-10-16 05:16:23 -0400 (Mon, 16 Oct 2023) EndedAt: 2023-10-16 05:19:47 -0400 (Mon, 16 Oct 2023) EllapsedTime: 203.3 seconds RetCode: 0 Status: OK CheckDir: PhIPData.Rcheck Warnings: 0