Package: PhIPData Version: 1.8.0 Command: rm -rf PhIPData.buildbin-libdir && mkdir PhIPData.buildbin-libdir && F:\biocbuild\bbs-3.17-bioc\R\bin\R.exe CMD INSTALL --build --library=PhIPData.buildbin-libdir PhIPData_1.8.0.tar.gz StartedAt: 2023-10-16 09:15:38 -0400 (Mon, 16 Oct 2023) EndedAt: 2023-10-16 09:16:14 -0400 (Mon, 16 Oct 2023) EllapsedTime: 36.7 seconds RetCode: 0 Status: OK PackageFile: PhIPData_1.8.0.zip PackageFileSize: 1.205 MiB