Package: PhIPData Version: 1.8.0 Command: /home/biocbuild/bbs-3.17-bioc/R/bin/R CMD check --install=check:PhIPData.install-out.txt --library=/home/biocbuild/bbs-3.17-bioc/R/site-library --timings PhIPData_1.8.0.tar.gz StartedAt: 2023-10-15 23:52:09 -0400 (Sun, 15 Oct 2023) EndedAt: 2023-10-15 23:55:45 -0400 (Sun, 15 Oct 2023) EllapsedTime: 216.0 seconds RetCode: 0 Status: OK CheckDir: PhIPData.Rcheck Warnings: 0