Package: PhIPData Version: 1.8.0 Command: /home/biocbuild/bbs-3.17-bioc/R/bin/R CMD build --keep-empty-dirs --no-resave-data PhIPData StartedAt: 2023-10-15 17:57:41 -0400 (Sun, 15 Oct 2023) EndedAt: 2023-10-15 17:58:23 -0400 (Sun, 15 Oct 2023) EllapsedTime: 42.5 seconds RetCode: 0 Status: OK PackageFile: PhIPData_1.8.0.tar.gz PackageFileSize: 820.8 KiB