Package: PhIPData Version: 1.8.0 Command: /Library/Frameworks/R.framework/Resources/bin/R CMD check --install=check:PhIPData.install-out.txt --library=/Library/Frameworks/R.framework/Resources/library --no-vignettes --timings PhIPData_1.8.0.tar.gz StartedAt: 2023-10-02 05:24:48 -0400 (Mon, 02 Oct 2023) EndedAt: 2023-10-02 05:33:31 -0400 (Mon, 02 Oct 2023) EllapsedTime: 523.6 seconds RetCode: 0 Status: OK CheckDir: PhIPData.Rcheck Warnings: 0