Package: PhIPData Version: 1.8.0 Command: /Library/Frameworks/R.framework/Resources/bin/R CMD build --keep-empty-dirs --no-resave-data PhIPData StartedAt: 2023-10-15 20:16:33 -0400 (Sun, 15 Oct 2023) EndedAt: 2023-10-15 20:18:32 -0400 (Sun, 15 Oct 2023) EllapsedTime: 118.5 seconds RetCode: 1 Status: ERROR PackageFile: None PackageFileSize: NA