Package: PhIPData Version: 1.8.0 Command: rm -rf PhIPData.buildbin-libdir && mkdir PhIPData.buildbin-libdir && /Users/biocbuild/BBS/utils/build-universal.sh PhIPData_1.8.0.tar.gz /Library/Frameworks/R.framework/Resources/bin/R PhIPData.buildbin-libdir StartedAt: 2023-10-02 10:10:58 -0400 (Mon, 02 Oct 2023) EndedAt: 2023-10-02 10:12:31 -0400 (Mon, 02 Oct 2023) EllapsedTime: 93.1 seconds RetCode: 0 Status: OK PackageFile: PhIPData_1.8.0.tgz PackageFileSize: 1.202 MiB