Package: PathoStat Version: 1.26.0 Command: chmod a+r PathoStat -R && F:\biocbuild\bbs-3.17-bioc\R\bin\R.exe CMD build --keep-empty-dirs --no-resave-data PathoStat StartedAt: 2023-10-15 21:14:54 -0400 (Sun, 15 Oct 2023) EndedAt: 2023-10-15 21:15:33 -0400 (Sun, 15 Oct 2023) EllapsedTime: 39.1 seconds RetCode: 0 Status: OK PackageFile: PathoStat_1.26.0.tar.gz PackageFileSize: 947.5 KiB