Package: PathoStat Version: 1.26.0 Command: /Library/Frameworks/R.framework/Resources/bin/R CMD build --keep-empty-dirs --no-resave-data PathoStat StartedAt: 2023-10-15 20:09:36 -0400 (Sun, 15 Oct 2023) EndedAt: 2023-10-15 20:11:50 -0400 (Sun, 15 Oct 2023) EllapsedTime: 133.5 seconds RetCode: 0 Status: OK PackageFile: PathoStat_1.26.0.tar.gz PackageFileSize: 947.8 KiB