Package: PathoStat Version: 1.26.0 Command: rm -rf PathoStat.buildbin-libdir && mkdir PathoStat.buildbin-libdir && /Users/biocbuild/BBS/utils/build-universal.sh PathoStat_1.26.0.tar.gz /Library/Frameworks/R.framework/Resources/bin/R PathoStat.buildbin-libdir StartedAt: 2023-10-16 09:54:07 -0400 (Mon, 16 Oct 2023) EndedAt: 2023-10-16 09:56:03 -0400 (Mon, 16 Oct 2023) EllapsedTime: 115.3 seconds RetCode: 0 Status: OK PackageFile: PathoStat_1.26.0.tgz PackageFileSize: 1.045 MiB