Package: PathNet Version: 1.40.1 Command: F:\biocbuild\bbs-3.17-bioc\R\bin\R.exe CMD INSTALL PathNet StartedAt: 2023-10-15 15:50:55 -0400 (Sun, 15 Oct 2023) EndedAt: 2023-10-15 15:51:03 -0400 (Sun, 15 Oct 2023) EllapsedTime: 7.8 seconds RetCode: 0 Status: OK