Package: Path2PPI Version: 1.30.0 Command: chmod a+r Path2PPI -R && F:\biocbuild\bbs-3.17-bioc\R\bin\R.exe CMD build --keep-empty-dirs --no-resave-data Path2PPI StartedAt: 2023-10-15 21:14:42 -0400 (Sun, 15 Oct 2023) EndedAt: 2023-10-15 21:14:57 -0400 (Sun, 15 Oct 2023) EllapsedTime: 15.7 seconds RetCode: 0 Status: OK PackageFile: Path2PPI_1.30.0.tar.gz PackageFileSize: 1.242 MiB