Package: Path2PPI Version: 1.30.0 Command: /home/biocbuild/bbs-3.17-bioc/R/bin/R CMD INSTALL Path2PPI StartedAt: 2023-10-15 15:08:24 -0400 (Sun, 15 Oct 2023) EndedAt: 2023-10-15 15:08:41 -0400 (Sun, 15 Oct 2023) EllapsedTime: 17.1 seconds RetCode: 0 Status: OK