Package: Path2PPI Version: 1.30.0 Command: /home/biocbuild/bbs-3.17-bioc/R/bin/R CMD build --keep-empty-dirs --no-resave-data Path2PPI StartedAt: 2023-10-15 17:53:31 -0400 (Sun, 15 Oct 2023) EndedAt: 2023-10-15 17:53:47 -0400 (Sun, 15 Oct 2023) EllapsedTime: 16.1 seconds RetCode: 0 Status: OK PackageFile: Path2PPI_1.30.0.tar.gz PackageFileSize: 1.391 MiB