Package: PanomiR Version: 1.4.0 Command: rm -rf PanomiR.buildbin-libdir && mkdir PanomiR.buildbin-libdir && F:\biocbuild\bbs-3.17-bioc\R\bin\R.exe CMD INSTALL --build --library=PanomiR.buildbin-libdir PanomiR_1.4.0.tar.gz StartedAt: 2023-10-16 09:14:18 -0400 (Mon, 16 Oct 2023) EndedAt: 2023-10-16 09:14:28 -0400 (Mon, 16 Oct 2023) EllapsedTime: 9.5 seconds RetCode: 0 Status: OK PackageFile: PanomiR_1.4.0.zip PackageFileSize: 2.069 MiB