Package: PanomiR Version: 1.4.0 Command: /Library/Frameworks/R.framework/Resources/bin/R CMD build --keep-empty-dirs --no-resave-data PanomiR StartedAt: 2023-10-15 20:07:15 -0400 (Sun, 15 Oct 2023) EndedAt: 2023-10-15 20:09:08 -0400 (Sun, 15 Oct 2023) EllapsedTime: 113.1 seconds RetCode: 0 Status: OK PackageFile: PanomiR_1.4.0.tar.gz PackageFileSize: 1.98 MiB