Package: PanViz Version: 1.2.0 Command: F:\biocbuild\bbs-3.17-bioc\R\bin\R.exe CMD check --no-multiarch --install=check:PanViz.install-out.txt --library=F:\biocbuild\bbs-3.17-bioc\R\library --no-vignettes --timings PanViz_1.2.0.tar.gz StartedAt: 2023-10-16 05:07:59 -0400 (Mon, 16 Oct 2023) EndedAt: 2023-10-16 05:09:10 -0400 (Mon, 16 Oct 2023) EllapsedTime: 70.8 seconds RetCode: 0 Status: OK CheckDir: PanViz.Rcheck Warnings: 0