Package: PanViz Version: 1.2.0 Command: rm -rf PanViz.buildbin-libdir && mkdir PanViz.buildbin-libdir && F:\biocbuild\bbs-3.17-bioc\R\bin\R.exe CMD INSTALL --build --library=PanViz.buildbin-libdir PanViz_1.2.0.tar.gz StartedAt: 2023-10-16 09:14:23 -0400 (Mon, 16 Oct 2023) EndedAt: 2023-10-16 09:14:36 -0400 (Mon, 16 Oct 2023) EllapsedTime: 12.6 seconds RetCode: 0 Status: OK PackageFile: PanViz_1.2.0.zip PackageFileSize: 1.811 MiB