Package: PanViz Version: 1.2.0 Command: /Library/Frameworks/R.framework/Resources/bin/R CMD INSTALL PanViz StartedAt: 2023-10-15 15:19:45 -0400 (Sun, 15 Oct 2023) EndedAt: 2023-10-15 15:19:59 -0400 (Sun, 15 Oct 2023) EllapsedTime: 13.6 seconds RetCode: 0 Status: OK